BEGIN:VCALENDAR
VERSION:2.0
PRODID:-//Hospital Raúl Orejuela Bueno E.S.E - ECPv6.15.20//NONSGML v1.0//EN
CALSCALE:GREGORIAN
METHOD:PUBLISH
X-WR-CALNAME:Hospital Raúl Orejuela Bueno E.S.E
X-ORIGINAL-URL:https://www.hrob.gov.co
X-WR-CALDESC:Eventos para Hospital Raúl Orejuela Bueno E.S.E
REFRESH-INTERVAL;VALUE=DURATION:PT1H
X-Robots-Tag:noindex
X-PUBLISHED-TTL:PT1H
BEGIN:VTIMEZONE
TZID:America/New_York
BEGIN:DAYLIGHT
TZOFFSETFROM:-0500
TZOFFSETTO:-0400
TZNAME:EDT
DTSTART:20240310T070000
END:DAYLIGHT
BEGIN:STANDARD
TZOFFSETFROM:-0400
TZOFFSETTO:-0500
TZNAME:EST
DTSTART:20241103T060000
END:STANDARD
BEGIN:DAYLIGHT
TZOFFSETFROM:-0500
TZOFFSETTO:-0400
TZNAME:EDT
DTSTART:20250309T070000
END:DAYLIGHT
BEGIN:STANDARD
TZOFFSETFROM:-0400
TZOFFSETTO:-0500
TZNAME:EST
DTSTART:20251102T060000
END:STANDARD
BEGIN:DAYLIGHT
TZOFFSETFROM:-0500
TZOFFSETTO:-0400
TZNAME:EDT
DTSTART:20260308T070000
END:DAYLIGHT
BEGIN:STANDARD
TZOFFSETFROM:-0400
TZOFFSETTO:-0500
TZNAME:EST
DTSTART:20261101T060000
END:STANDARD
END:VTIMEZONE
BEGIN:VEVENT
DTSTART;TZID=America/New_York:20250701T073000
DTEND;TZID=America/New_York:20250704T160000
DTSTAMP:20260419T100523
CREATED:20250630T203630Z
LAST-MODIFIED:20250729T204034Z
UID:3881-1751355000-1751644800@www.hrob.gov.co
SUMMARY:Jornada Palmiranos sanos ¡Bacano!
DESCRIPTION:Seguimos apostando por el bienestar de nuestra comunidad con las brigadas Palmiranos Sanos ¡Bacano! \n¿Qué servicios encontrarás?\nLas brigadas cuentan con un equipo de profesionales de la salud que brindarán los siguientes servicios: \n\nConsulta de médica general.\nControl y atención de enfermedades crónicas (hipertensión\, diabetes\, obesidad).\nVacunación\nAtención en salud sexual y reproductiva.\nPsicología\nOdontología\nNutrición\nEducación en hábitos de vida saludables.\nToma de muestras de laboratorio y citologías.\nPruebas rápidas de VIH\, sífilis y hepatitis B.\nFisioterapia\nAfiliaciones a EPS.\nSisbén
URL:https://www.hrob.gov.co/calendario/jornada-palmiranos-sanos-bacano-frayluis/
LOCATION:SALÓN COMUNAL FRAY LUIS AMIGÓ
ATTACH;FMTTYPE=image/jpeg:https://www.hrob.gov.co/wp-content/uploads/2025/07/WhatsApp-Image-2025-06-30-at-12.45.28.jpeg
END:VEVENT
BEGIN:VEVENT
DTSTART;TZID=America/New_York:20250707T073000
DTEND;TZID=America/New_York:20250711T163000
DTSTAMP:20260419T100523
CREATED:20250704T204900Z
LAST-MODIFIED:20250729T211212Z
UID:3885-1751873400-1752251400@www.hrob.gov.co
SUMMARY:Jornada Palmiranos sanos ¡Bacano! RURAL
DESCRIPTION:Seguimos apostando por el bienestar de nuestra comunidad con las brigadas Palmiranos Sanos ¡Bacano! \n¿Qué servicios encontrarás?\nLas brigadas cuentan con un equipo de profesionales de la salud que brindarán los siguientes servicios: \n\nConsulta de médica general.\nControl y atención de enfermedades crónicas (hipertensión\, diabetes\, obesidad).\nVacunación\nAtención en salud sexual y reproductiva.\nPsicología\nOdontología\nNutrición\nEducación en hábitos de vida saludables.\nToma de muestras de laboratorio y citologías.\nPruebas rápidas de VIH\, sífilis y hepatitis B.\nFisioterapia\nAfiliaciones a EPS.\nSisbén
URL:https://www.hrob.gov.co/calendario/jornada-palmiranos-sanos-bacano-rural-arenillo/
LOCATION:CASETA COMUNAL DEL ARENILLO
ATTACH;FMTTYPE=image/jpeg:https://www.hrob.gov.co/wp-content/uploads/2025/07/WhatsApp-Image-2025-07-06-at-15.53.54.jpeg
END:VEVENT
BEGIN:VEVENT
DTSTART;TZID=America/New_York:20250707T073000
DTEND;TZID=America/New_York:20250711T163000
DTSTAMP:20260419T100523
CREATED:20250704T211523Z
LAST-MODIFIED:20250729T212243Z
UID:3893-1751873400-1752251400@www.hrob.gov.co
SUMMARY:Jornada Palmiranos sanos ¡Bacano!
DESCRIPTION:Seguimos apostando por el bienestar de nuestra comunidad con las brigadas Palmiranos Sanos ¡Bacano! \n¿Qué servicios encontrarás?\nLas brigadas cuentan con un equipo de profesionales de la salud que brindarán los siguientes servicios: \n\nConsulta de médica general.\nControl y atención de enfermedades crónicas (hipertensión\, diabetes\, obesidad).\nVacunación\nAtención en salud sexual y reproductiva.\nPsicología\nOdontología\nNutrición\nEducación en hábitos de vida saludables.\nToma de muestras de laboratorio y citologías.\nPruebas rápidas de VIH\, sífilis y hepatitis B.\nFisioterapia\nAfiliaciones a EPS.\nSisbén
URL:https://www.hrob.gov.co/calendario/jornada-palmiranos-sanos-bacano-rural-elprado/
LOCATION:CASETA COMULA BARRIO EL PRADO
ATTACH;FMTTYPE=image/jpeg:https://www.hrob.gov.co/wp-content/uploads/2025/07/WhatsApp-Image-2025-07-06-at-15.54.01.jpeg
END:VEVENT
BEGIN:VEVENT
DTSTART;TZID=America/New_York:20250714T073000
DTEND;TZID=America/New_York:20250715T163000
DTSTAMP:20260419T100523
CREATED:20250711T212559Z
LAST-MODIFIED:20250729T212832Z
UID:3900-1752478200-1752597000@www.hrob.gov.co
SUMMARY:Jornada Palmiranos sanos ¡Bacano! RURAL
DESCRIPTION:Seguimos apostando por el bienestar de nuestra comunidad con las brigadas Palmiranos Sanos ¡Bacano! \n¿Qué servicios encontrarás?\nLas brigadas cuentan con un equipo de profesionales de la salud que brindarán los siguientes servicios: \n\nConsulta de médica general.\nControl y atención de enfermedades crónicas (hipertensión\, diabetes\, obesidad).\nVacunación\nAtención en salud sexual y reproductiva.\nPsicología\nOdontología\nNutrición\nEducación en hábitos de vida saludables.\nToma de muestras de laboratorio y citologías.\nPruebas rápidas de VIH\, sífilis y hepatitis B.\nFisioterapia\nAfiliaciones a EPS.\nSisbén
URL:https://www.hrob.gov.co/calendario/jornada-palmiranos-sanos-bacano-rural-elmeson/
LOCATION:CASETA COMUAL DE EL MESON
ATTACH;FMTTYPE=image/jpeg:https://www.hrob.gov.co/wp-content/uploads/2025/07/WhatsApp-Image-2025-07-12-at-08.39.13.jpeg
END:VEVENT
BEGIN:VEVENT
DTSTART;TZID=America/New_York:20250714T073000
DTEND;TZID=America/New_York:20250718T163000
DTSTAMP:20260419T100523
CREATED:20250711T212417Z
LAST-MODIFIED:20250729T212525Z
UID:3897-1752478200-1752856200@www.hrob.gov.co
SUMMARY:Jornada Palmiranos sanos ¡Bacano!
DESCRIPTION:Seguimos apostando por el bienestar de nuestra comunidad con las brigadas Palmiranos Sanos ¡Bacano! \n¿Qué servicios encontrarás?\nLas brigadas cuentan con un equipo de profesionales de la salud que brindarán los siguientes servicios: \n\nConsulta de médica general.\nControl y atención de enfermedades crónicas (hipertensión\, diabetes\, obesidad).\nVacunación\nAtención en salud sexual y reproductiva.\nPsicología\nOdontología\nNutrición\nEducación en hábitos de vida saludables.\nToma de muestras de laboratorio y citologías.\nPruebas rápidas de VIH\, sífilis y hepatitis B.\nFisioterapia\nAfiliaciones a EPS.\nSisbén
URL:https://www.hrob.gov.co/calendario/jornada-palmiranos-sanos-bacano-elprado-2/
LOCATION:CASETA COMULA BARRIO EL PRADO
ATTACH;FMTTYPE=image/jpeg:https://www.hrob.gov.co/wp-content/uploads/2025/07/WhatsApp-Image-2025-07-12-at-08.39.05.jpeg
END:VEVENT
BEGIN:VEVENT
DTSTART;TZID=America/New_York:20250721T073000
DTEND;TZID=America/New_York:20250723T163000
DTSTAMP:20260419T100523
CREATED:20250718T213044Z
LAST-MODIFIED:20250729T213317Z
UID:3904-1753083000-1753288200@www.hrob.gov.co
SUMMARY:Jornada Palmiranos sanos ¡Bacano! RURAL
DESCRIPTION:18Seguimos apostando por el bienestar de nuestra comunidad con las brigadas Palmiranos Sanos ¡Bacano! \n¿Qué servicios encontrarás?\nLas brigadas cuentan con un equipo de profesionales de la salud que brindarán los siguientes servicios: \n\nConsulta de médica general.\nControl y atención de enfermedades crónicas (hipertensión\, diabetes\, obesidad).\nVacunación\nAtención en salud sexual y reproductiva.\nPsicología\nOdontología\nNutrición\nEducación en hábitos de vida saludables.\nToma de muestras de laboratorio y citologías.\nPruebas rápidas de VIH\, sífilis y hepatitis B.\nFisioterapia\nAfiliaciones a EPS.\nSisbén
URL:https://www.hrob.gov.co/calendario/jornada-palmiranos-sanos-bacano-quisquina/
LOCATION:CASETA COMUNAL LA QUISQUINA
ATTACH;FMTTYPE=image/jpeg:https://www.hrob.gov.co/wp-content/uploads/2025/07/WhatsApp-Image-2025-07-20-at-06.31.44.jpeg
END:VEVENT
BEGIN:VEVENT
DTSTART;TZID=America/New_York:20250721T073000
DTEND;TZID=America/New_York:20250725T163000
DTSTAMP:20260419T100523
CREATED:20250718T213413Z
LAST-MODIFIED:20250729T213511Z
UID:3909-1753083000-1753461000@www.hrob.gov.co
SUMMARY:Jornada Palmiranos sanos ¡Bacano!
DESCRIPTION:Seguimos apostando por el bienestar de nuestra comunidad con las brigadas Palmiranos Sanos ¡Bacano! \n¿Qué servicios encontrarás?\nLas brigadas cuentan con un equipo de profesionales de la salud que brindarán los siguientes servicios: \n\nConsulta de médica general.\nControl y atención de enfermedades crónicas (hipertensión\, diabetes\, obesidad).\nVacunación\nAtención en salud sexual y reproductiva.\nPsicología\nOdontología\nNutrición\nEducación en hábitos de vida saludables.\nToma de muestras de laboratorio y citologías.\nPruebas rápidas de VIH\, sífilis y hepatitis B.\nFisioterapia\nAfiliaciones a EPS.\nSisbén
URL:https://www.hrob.gov.co/calendario/jornada-palmiranos-sanos-bacano-imder-2/
LOCATION:IMDER PALMIRA
ATTACH;FMTTYPE=image/jpeg:https://www.hrob.gov.co/wp-content/uploads/2025/07/WhatsApp-Image-2025-07-20-at-06.31.48.jpeg
END:VEVENT
BEGIN:VEVENT
DTSTART;TZID=America/New_York:20250728T073000
DTEND;TZID=America/New_York:20250801T163000
DTSTAMP:20260419T100523
CREATED:20250725T214223Z
LAST-MODIFIED:20250729T214358Z
UID:3916-1753687800-1754065800@www.hrob.gov.co
SUMMARY:Jornada Palmiranos sanos ¡Bacano! RURAL
DESCRIPTION:18Seguimos apostando por el bienestar de nuestra comunidad con las brigadas Palmiranos Sanos ¡Bacano! \n¿Qué servicios encontrarás?\nLas brigadas cuentan con un equipo de profesionales de la salud que brindarán los siguientes servicios: \n\nConsulta de médica general.\nControl y atención de enfermedades crónicas (hipertensión\, diabetes\, obesidad).\nVacunación\nAtención en salud sexual y reproductiva.\nPsicología\nOdontología\nNutrición\nEducación en hábitos de vida saludables.\nToma de muestras de laboratorio y citologías.\nPruebas rápidas de VIH\, sífilis y hepatitis B.\nFisioterapia\nAfiliaciones a EPS.\nSisbén
URL:https://www.hrob.gov.co/calendario/jornada-palmiranos-sanos-bacano-rural-tenjo/
LOCATION:PUESTO DE SALUD DE TENJO
ATTACH;FMTTYPE=image/jpeg:https://www.hrob.gov.co/wp-content/uploads/2025/07/WhatsApp-Image-2025-07-26-at-08.59.48.jpeg
END:VEVENT
BEGIN:VEVENT
DTSTART;TZID=America/New_York:20250728T073000
DTEND;TZID=America/New_York:20250801T163000
DTSTAMP:20260419T100523
CREATED:20250725T214519Z
LAST-MODIFIED:20250729T214645Z
UID:3920-1753687800-1754065800@www.hrob.gov.co
SUMMARY:Jornada Palmiranos sanos ¡Bacano!
DESCRIPTION:Seguimos apostando por el bienestar de nuestra comunidad con las brigadas Palmiranos Sanos ¡Bacano! \n¿Qué servicios encontrarás?\nLas brigadas cuentan con un equipo de profesionales de la salud que brindarán los siguientes servicios: \n\nConsulta de médica general.\nControl y atención de enfermedades crónicas (hipertensión\, diabetes\, obesidad).\nVacunación\nAtención en salud sexual y reproductiva.\nPsicología\nOdontología\nNutrición\nEducación en hábitos de vida saludables.\nToma de muestras de laboratorio y citologías.\nPruebas rápidas de VIH\, sífilis y hepatitis B.\nFisioterapia\nAfiliaciones a EPS.\nSisbén
URL:https://www.hrob.gov.co/calendario/jornada-palmiranos-sanos-bacano-santabarbara/
LOCATION:CASETA COMUNAL BARRIO SANTA BÁRBARA
ATTACH;FMTTYPE=image/jpeg:https://www.hrob.gov.co/wp-content/uploads/2025/07/WhatsApp-Image-2025-07-26-at-08.59.56.jpeg
END:VEVENT
END:VCALENDAR