BEGIN:VCALENDAR
VERSION:2.0
PRODID:-//Hospital Raúl Orejuela Bueno E.S.E - ECPv6.15.20//NONSGML v1.0//EN
CALSCALE:GREGORIAN
METHOD:PUBLISH
X-ORIGINAL-URL:https://www.hrob.gov.co
X-WR-CALDESC:Eventos para Hospital Raúl Orejuela Bueno E.S.E
REFRESH-INTERVAL;VALUE=DURATION:PT1H
X-Robots-Tag:noindex
X-PUBLISHED-TTL:PT1H
BEGIN:VTIMEZONE
TZID:America/New_York
BEGIN:DAYLIGHT
TZOFFSETFROM:-0500
TZOFFSETTO:-0400
TZNAME:EDT
DTSTART:20240310T070000
END:DAYLIGHT
BEGIN:STANDARD
TZOFFSETFROM:-0400
TZOFFSETTO:-0500
TZNAME:EST
DTSTART:20241103T060000
END:STANDARD
BEGIN:DAYLIGHT
TZOFFSETFROM:-0500
TZOFFSETTO:-0400
TZNAME:EDT
DTSTART:20250309T070000
END:DAYLIGHT
BEGIN:STANDARD
TZOFFSETFROM:-0400
TZOFFSETTO:-0500
TZNAME:EST
DTSTART:20251102T060000
END:STANDARD
BEGIN:DAYLIGHT
TZOFFSETFROM:-0500
TZOFFSETTO:-0400
TZNAME:EDT
DTSTART:20260308T070000
END:DAYLIGHT
BEGIN:STANDARD
TZOFFSETFROM:-0400
TZOFFSETTO:-0500
TZNAME:EST
DTSTART:20261101T060000
END:STANDARD
END:VTIMEZONE
BEGIN:VEVENT
DTSTART;TZID=America/New_York:20250603T070000
DTEND;TZID=America/New_York:20250604T160000
DTSTAMP:20260419T124733
CREATED:20250601T200240Z
LAST-MODIFIED:20250729T201628Z
UID:3860-1748934000-1749052800@www.hrob.gov.co
SUMMARY:Jornada Palmiranos sanos ¡Bacano!
DESCRIPTION:Seguimos apostando por el bienestar de nuestra comunidad con las brigadas Palmiranos Sanos ¡Bacano! \n¿Qué servicios encontrarás?\nLas brigadas cuentan con un equipo de profesionales de la salud que brindarán los siguientes servicios: \n\nConsulta de médica general.\nControl y atención de enfermedades crónicas (hipertensión\, diabetes\, obesidad).\nVacunación\nAtención en salud sexual y reproductiva.\nPsicología\nOdontología\nNutrición\nEducación en hábitos de vida saludables.\nToma de muestras de laboratorio y citologías.\nPruebas rápidas de VIH\, sífilis y hepatitis B.\nFisioterapia\nAfiliaciones a EPS.\nSisbén
URL:https://www.hrob.gov.co/calendario/jornada-palmiranos-sanos-bacano-berlin/
LOCATION:SALÓN COMUNAL BARRIO BERLÍN\, CALLE 43 # 30-64\, PALMIRA\, Colombia
ATTACH;FMTTYPE=image/jpeg:https://www.hrob.gov.co/wp-content/uploads/2025/07/WhatsApp-Image-2025-05-31-at-08.29.16.jpeg
END:VEVENT
END:VCALENDAR