BEGIN:VCALENDAR
VERSION:2.0
PRODID:-//Hospital Raúl Orejuela Bueno E.S.E - ECPv6.15.20//NONSGML v1.0//EN
CALSCALE:GREGORIAN
METHOD:PUBLISH
X-ORIGINAL-URL:https://www.hrob.gov.co
X-WR-CALDESC:Eventos para Hospital Raúl Orejuela Bueno E.S.E
REFRESH-INTERVAL;VALUE=DURATION:PT1H
X-Robots-Tag:noindex
X-PUBLISHED-TTL:PT1H
BEGIN:VTIMEZONE
TZID:America/New_York
BEGIN:DAYLIGHT
TZOFFSETFROM:-0500
TZOFFSETTO:-0400
TZNAME:EDT
DTSTART:20240310T070000
END:DAYLIGHT
BEGIN:STANDARD
TZOFFSETFROM:-0400
TZOFFSETTO:-0500
TZNAME:EST
DTSTART:20241103T060000
END:STANDARD
BEGIN:DAYLIGHT
TZOFFSETFROM:-0500
TZOFFSETTO:-0400
TZNAME:EDT
DTSTART:20250309T070000
END:DAYLIGHT
BEGIN:STANDARD
TZOFFSETFROM:-0400
TZOFFSETTO:-0500
TZNAME:EST
DTSTART:20251102T060000
END:STANDARD
BEGIN:DAYLIGHT
TZOFFSETFROM:-0500
TZOFFSETTO:-0400
TZNAME:EDT
DTSTART:20260308T070000
END:DAYLIGHT
BEGIN:STANDARD
TZOFFSETFROM:-0400
TZOFFSETTO:-0500
TZNAME:EST
DTSTART:20261101T060000
END:STANDARD
END:VTIMEZONE
BEGIN:VEVENT
DTSTART;TZID=America/New_York:20250815T090000
DTEND;TZID=America/New_York:20250818T160000
DTSTAMP:20260419T115023
CREATED:20250818T220003Z
LAST-MODIFIED:20250818T220003Z
UID:4303-1755248400-1755532800@www.hrob.gov.co
SUMMARY:Palmiranos sanos ¡Bacano! en la FNA 2025
DESCRIPTION:Seguimos apostando por el bienestar de nuestra comunidad con las brigadas Palmiranos Sanos ¡Bacano! \n \n¿Qué servicios encontrarás?\nLas brigadas cuentan con un equipo de profesionales de la salud que brindarán los siguientes servicios: \n\nVacunación\nAtención en salud sexual y reproductiva.\nToma de muestras de laboratorio y citologías.\nPruebas rápidas de VIH\, sífilis y hepatitis B.
URL:https://www.hrob.gov.co/calendario/jornada-palmiranos-sanos-bacano/
LOCATION:Coliseo de ferias Alvaro Dominguez Vallecilla
ATTACH;FMTTYPE=image/png:https://www.hrob.gov.co/wp-content/uploads/2025/08/2025_AGO10_FNA_Mesa-de-trabajo-1-scaled-e1755194766130.png
END:VEVENT
END:VCALENDAR